Workbook

Sheet 114-01
A1: 新北市私立莊敬高級工業家事職業學校
A2: 114年全國暨即測即評及發證技術士技能 「美容、女子美髮考場」採購案 估價單
A3: 項次 | B3: 項目 | C3: 規格 | D3: 數量 | E3: 單位 | F3: 單價 | G3: 小計
A4: 1 | B4: =[1]採購數量!B6 -> 漂白水(氯液) | C4: =[1]採購數量!C6 -> 0 | D4: 20 | E4: =[1]採購數量!E6 -> 瓶
A5: 2 | B5: =[1]採購數量!B7 -> 陽性肥皂液 | C5: =[1]採購數量!C7 -> 0 | D5: 20 | E5: =[1]採購數量!E7 -> 瓶
A6: 3 | B6: =[1]採購數量!B8 -> 滅菌棉球 小粒 | C6: =[1]採購數量!C8 -> 100粒/包 | D6: =[1]採購數量!D8 -> 50 | E6: =[1]採購數量!E8 -> 包
A7: 4 | B7: =[1]採購數量!B9 -> 蓮蓬頭組 | C7: =[1]採購數量!C9 -> 0 | D7: =[1]採購數量!D9 -> 6 | E7: =[1]採購數量!E9 -> 組
A8: 5 | B8: =[1]採購數量!B10 -> 化妝鏡台 | C8: =[1]採購數量!C10 -> 0 | D8: =[1]採購數量!D10 -> 22 | E8: =[1]採購數量!E10 -> 台
A9: 6 | B9: =[1]採購數量!B11 -> 美容車 | C9: =[1]採購數量!C11 -> 50*29.5*85 | D9: =[1]採購數量!D11 -> 22 | E9: =[1]採購數量!E11 -> 台
A10: 7 | B10: =[1]採購數量!B12 -> 美容床 | C10: =[1]採購數量!C12 -> 178*58*61 | D10: =[1]採購數量!D12 -> 22 | E10: =[1]採購數量!E12 -> 張
A11: 8 | B11: =[1]採購數量!B13 -> 美容椅 | C11: =[1]採購數量!C13 -> 51*51 | D11: =[1]採購數量!D13 -> 22 | E11: =[1]採購數量!E13 -> 張
A12: 9 | B12: =[1]採購數量!B14 -> 蒸臉器 | C12: =[1]採購數量!C14 -> 62*78*146 | D12: =[1]採購數量!D14 -> 12 | E12: =[1]採購數量!E14 -> 台
A13: 10 | B13: =[1]採購數量!B15 -> 蒸氣消毒箱 | C13: =[1]採購數量!C15 -> 45*35*55 | D13: =[1]採購數量!D15 -> 6 | E13: =[1]採購數量!E15 -> 個
A14: 11 | B14: =[1]採購數量!B16 -> 紫外線消毒箱 | C14: =[1]採購數量!C16 -> 34*30*25 | D14: =[1]採購數量!D16 -> 6 | E14: =[1]採購數量!E16 -> 座
A15: 12 | B15: =[1]採購數量!B17 -> 評審桌 | C15: =[1]採購數量!C17 -> 0 | D15: =[1]採購數量!D17 -> 5 | E15: =[1]採購數量!E17 -> 張
A16: 13 | B16: =[1]採購數量!B18 -> 白板 | C16: =[1]採購數量!C18 -> 0 | D16: =[1]採購數量!D18 -> 2 | E16: =[1]採購數量!E18 -> 個
A17: 14 | B17: =[1]採購數量!B19 -> 評審椅 | C17: =[1]採購數量!C19 -> 0 | D17: =[1]採購數量!D19 -> 8 | E17: =[1]採購數量!E19 -> 張
... A24: 21 | B24: =[1]採購數量!B26 -> 25%煤鎦油酚 | C24: =[1]採購數量!C26 -> 0 | D24: =[1]採購數量!D26 -> 16 | E24: =[1]採購數量!E26 -> 瓶
A25: 22 | B25: 酒精棉片 | C25: 100片/盒 | D25: 200 | E25: 盒
F26: 合計
A27: 總標價：(新台幣) 元整
A28: 投標廠商 (蓋章)
A29: 負責人 (蓋章)
A30: 地址：
A31: 電話：
